BEGIN:VCALENDAR
VERSION:2.0
PRODID:-//Arlington Elementary School - Home of the WildCats - ECPv6.15.13//NONSGML v1.0//EN
CALSCALE:GREGORIAN
METHOD:PUBLISH
X-WR-CALNAME:Arlington Elementary School - Home of the WildCats
X-ORIGINAL-URL:http://arlingtonelem.org
X-WR-CALDESC:Events for Arlington Elementary School - Home of the WildCats
REFRESH-INTERVAL;VALUE=DURATION:PT1H
X-Robots-Tag:noindex
X-PUBLISHED-TTL:PT1H
BEGIN:VTIMEZONE
TZID:UTC
BEGIN:STANDARD
TZOFFSETFROM:+0000
TZOFFSETTO:+0000
TZNAME:UTC
DTSTART:20220101T000000
END:STANDARD
END:VTIMEZONE
BEGIN:VEVENT
DTSTART;VALUE=DATE:20231219
DTEND;VALUE=DATE:20231220
DTSTAMP:20260421T200321
CREATED:20230619T163007Z
LAST-MODIFIED:20231130T153632Z
UID:13907-1702944000-1703030399@arlingtonelem.org
SUMMARY:Christmas Program
DESCRIPTION:Our yearly Christmas Program will be performed at the Arlington School multipurpose room. The program will begin at 6 PM. We remind you that the children work very hard on these programs and your full attention during the performances is greatly appreciated.\nA special thanks to Mrs. Hacker for all her hard work.
URL:http://arlingtonelem.org/event/christmas-program-3/
END:VEVENT
BEGIN:VEVENT
DTSTART;VALUE=DATE:20231220
DTEND;VALUE=DATE:20231222
DTSTAMP:20260421T200321
CREATED:20230619T163338Z
LAST-MODIFIED:20231130T153935Z
UID:13909-1703030400-1703203199@arlingtonelem.org
SUMMARY:Early Release
DESCRIPTION:On December  19th and 20th\, we will be dismissing students at 11:00am. No lunch will be served.
URL:http://arlingtonelem.org/event/early-release/
END:VEVENT
BEGIN:VEVENT
DTSTART;VALUE=DATE:20231225
DTEND;VALUE=DATE:20240105
DTSTAMP:20260421T200321
CREATED:20230619T163642Z
LAST-MODIFIED:20230619T163642Z
UID:13911-1703462400-1704412799@arlingtonelem.org
SUMMARY:Winter Break
DESCRIPTION:Arlington School will be closed for Winter Break. We’ll resume school on Monday\, January 8th\, 2024.
URL:http://arlingtonelem.org/event/winter-break-6/
END:VEVENT
BEGIN:VEVENT
DTSTART;TZID=UTC:20240108T080000
DTEND;TZID=UTC:20240108T153000
DTSTAMP:20260421T200321
CREATED:20230619T163816Z
LAST-MODIFIED:20230619T163816Z
UID:13913-1704700800-1704727800@arlingtonelem.org
SUMMARY:School Resumes
DESCRIPTION:WELCOME BACK! School resumes on Monday\, January 8th\, 2024.
URL:http://arlingtonelem.org/event/school-resumes-5/
END:VEVENT
BEGIN:VEVENT
DTSTART;VALUE=DATE:20240115
DTEND;VALUE=DATE:20240116
DTSTAMP:20260421T200321
CREATED:20230619T164129Z
LAST-MODIFIED:20230619T164129Z
UID:13915-1705276800-1705363199@arlingtonelem.org
SUMMARY:Martin Luther King Day
DESCRIPTION:Arlington School will be closed in observance of Martin Luther King Day. \n \nBlack silhouette of Martin Luther King Jr\, with “I have a dream” written on the image.
URL:http://arlingtonelem.org/event/martin-luther-king-day/
END:VEVENT
BEGIN:VEVENT
DTSTART;VALUE=DATE:20240219
DTEND;VALUE=DATE:20240220
DTSTAMP:20260421T200321
CREATED:20230619T164523Z
LAST-MODIFIED:20230619T164523Z
UID:13917-1708300800-1708387199@arlingtonelem.org
SUMMARY:President's Day
DESCRIPTION:Arlington School will be closed in observance of President’s Day. School will resume on Tuesday\, February 20th. \nA silhouette of President Lincoln\, seated on a chair with his hat on his knee.
URL:http://arlingtonelem.org/event/presidents-day-5/
END:VEVENT
BEGIN:VEVENT
DTSTART;VALUE=DATE:20240318
DTEND;VALUE=DATE:20240322
DTSTAMP:20260421T200321
CREATED:20230619T164751Z
LAST-MODIFIED:20230619T164751Z
UID:13919-1710720000-1711065599@arlingtonelem.org
SUMMARY:Spring Break
DESCRIPTION:Arlington School will be closed for Spring Break. School will resume on Monday\, March 25th\, 2024.
URL:http://arlingtonelem.org/event/spring-break-5/
END:VEVENT
BEGIN:VEVENT
DTSTART;VALUE=DATE:20240515
DTEND;VALUE=DATE:20240517
DTSTAMP:20260421T200321
CREATED:20230619T165000Z
LAST-MODIFIED:20230619T165000Z
UID:13921-1715731200-1715903999@arlingtonelem.org
SUMMARY:Early Release
DESCRIPTION:We will dismiss students early\, at 11:00am\, on May 15th and 16th.
URL:http://arlingtonelem.org/event/early-release-2/
END:VEVENT
BEGIN:VEVENT
DTSTART;TZID=UTC:20240704T080000
DTEND;TZID=UTC:20240704T170000
DTSTAMP:20260421T200321
CREATED:20240529T183550Z
LAST-MODIFIED:20240529T183550Z
UID:14202-1720080000-1720112400@arlingtonelem.org
SUMMARY:Independence Day
DESCRIPTION:The school will be closed on Thursday\, July 4th\, in observance of Independence Day.
URL:http://arlingtonelem.org/event/independence-day-3/
END:VEVENT
BEGIN:VEVENT
DTSTART;TZID=UTC:20240805T080000
DTEND;TZID=UTC:20240805T150000
DTSTAMP:20260421T200321
CREATED:20240529T192110Z
LAST-MODIFIED:20240529T193706Z
UID:14204-1722844800-1722870000@arlingtonelem.org
SUMMARY:Teacher In-Service
DESCRIPTION:Teachers will be at the school\, readying themselves for the new school year! School is not yet in session.
URL:http://arlingtonelem.org/event/teacher-in-service-3/
END:VEVENT
BEGIN:VEVENT
DTSTART;TZID=UTC:20240806T080000
DTEND;TZID=UTC:20240806T150000
DTSTAMP:20260421T200321
CREATED:20240529T192504Z
LAST-MODIFIED:20240529T193843Z
UID:14206-1722931200-1722956400@arlingtonelem.org
SUMMARY:All Staff In Service
DESCRIPTION:All of the rest of the staff will be here to do the setting up of the classrooms.
URL:http://arlingtonelem.org/event/all-staff-in-service/
END:VEVENT
BEGIN:VEVENT
DTSTART;TZID=UTC:20240807T073000
DTEND;TZID=UTC:20240807T110000
DTSTAMP:20260421T200321
CREATED:20240529T192624Z
LAST-MODIFIED:20240529T193321Z
UID:14209-1723015800-1723028400@arlingtonelem.org
SUMMARY:First day of school
DESCRIPTION:FIRST DAY of school. 11am release. Welcome back.
URL:http://arlingtonelem.org/event/first-day-of-school-10/
END:VEVENT
BEGIN:VEVENT
DTSTART;VALUE=DATE:20240902
DTEND;VALUE=DATE:20240903
DTSTAMP:20260421T200321
CREATED:20240529T193153Z
LAST-MODIFIED:20240529T193153Z
UID:14215-1725235200-1725321599@arlingtonelem.org
SUMMARY:Labor Day
DESCRIPTION:Arlington School will be closed on Monday\, September 2nd in observance of Labor Day.
URL:http://arlingtonelem.org/event/labor-day-7/
END:VEVENT
BEGIN:VEVENT
DTSTART;TZID=UTC:20241009T080000
DTEND;TZID=UTC:20241009T170000
DTSTAMP:20260421T200321
CREATED:20240624T150325Z
LAST-MODIFIED:20240624T150358Z
UID:14450-1728460800-1728493200@arlingtonelem.org
SUMMARY:First Quarter Grades Due
DESCRIPTION:Teachers must submit the first quarter grades by the end of the day. Report cards to be released the following day. (subject to change)
URL:http://arlingtonelem.org/event/first-quarter-grades-due/
END:VEVENT
BEGIN:VEVENT
DTSTART;TZID=UTC:20241014T080000
DTEND;TZID=UTC:20241019T170000
DTSTAMP:20260421T200321
CREATED:20240529T193452Z
LAST-MODIFIED:20240624T151256Z
UID:14217-1728892800-1729357200@arlingtonelem.org
SUMMARY:Fall Break
DESCRIPTION:Arlington School will be closed for Fall Break. Have a wonderful break. See you soon.\n 
URL:http://arlingtonelem.org/event/fall-break-8/
END:VEVENT
BEGIN:VEVENT
DTSTART;TZID=UTC:20250521T090000
DTEND;TZID=UTC:20250521T230000
DTSTAMP:20260421T200321
CREATED:20250514T202346Z
LAST-MODIFIED:20250514T202346Z
UID:14893-1747818000-1747868400@arlingtonelem.org
SUMMARY:8th Grade Promotion
DESCRIPTION:The 8th grade will have their promotion on Wednesday\, May 21st at 9:00 am. Please call the school for more information.
URL:http://arlingtonelem.org/event/8th-grade-promotion-4/
END:VEVENT
BEGIN:VEVENT
DTSTART;TZID=UTC:20250804T080000
DTEND;TZID=UTC:20250804T150000
DTSTAMP:20260421T200321
CREATED:20250514T202728Z
LAST-MODIFIED:20250514T202728Z
UID:14895-1754294400-1754319600@arlingtonelem.org
SUMMARY:Teacher In-Service
DESCRIPTION:Monday\, August 4th\, teachers will be at Arlington School for In-Service.
URL:http://arlingtonelem.org/event/teacher-in-service-4/
END:VEVENT
BEGIN:VEVENT
DTSTART;TZID=UTC:20250805T080000
DTEND;TZID=UTC:20250805T150000
DTSTAMP:20260421T200321
CREATED:20250514T202918Z
LAST-MODIFIED:20250514T202918Z
UID:14897-1754380800-1754406000@arlingtonelem.org
SUMMARY:All Staff In-Service
DESCRIPTION:On Tuesday\, August 5th\, 2025\, all staff will return to the school for in-service.
URL:http://arlingtonelem.org/event/all-staff-in-service-2/
END:VEVENT
BEGIN:VEVENT
DTSTART;VALUE=DATE:20250806
DTEND;VALUE=DATE:20250807
DTSTAMP:20260421T200321
CREATED:20250514T203033Z
LAST-MODIFIED:20250514T203057Z
UID:14899-1754438400-1754524799@arlingtonelem.org
SUMMARY:First Day Of School
DESCRIPTION:Wednesday\, August 6th\, 2025\, is the first day of school for the 2025-26 school year at Arlington Elementary School. School will be released at 11 am. No lunch will be served.
URL:http://arlingtonelem.org/event/first-day-of-school-11/
END:VEVENT
BEGIN:VEVENT
DTSTART;VALUE=DATE:20250901
DTEND;VALUE=DATE:20250902
DTSTAMP:20260421T200321
CREATED:20250514T203225Z
LAST-MODIFIED:20250514T203225Z
UID:14902-1756684800-1756771199@arlingtonelem.org
SUMMARY:Labor Day-No School
DESCRIPTION:Arlington Elementary School will be close on Monday\, September 1st\, 2025\, in observance of Labor Day.
URL:http://arlingtonelem.org/event/labor-day-no-school-2/
END:VEVENT
BEGIN:VEVENT
DTSTART;VALUE=DATE:20251009
DTEND;VALUE=DATE:20251010
DTSTAMP:20260421T200321
CREATED:20250514T203334Z
LAST-MODIFIED:20250514T203334Z
UID:14904-1759968000-1760054399@arlingtonelem.org
SUMMARY:Quarter One Report Cards
DESCRIPTION:Quarter One report cards will be sent home on Thursday\, October 9th.
URL:http://arlingtonelem.org/event/quarter-one-report-cards-2/
END:VEVENT
BEGIN:VEVENT
DTSTART;TZID=UTC:20251013T080000
DTEND;TZID=UTC:20251016T170000
DTSTAMP:20260421T200321
CREATED:20250514T203524Z
LAST-MODIFIED:20250514T203524Z
UID:14906-1760342400-1760634000@arlingtonelem.org
SUMMARY:Fall Break
DESCRIPTION:Fall Break will begin on Monday\, October 13th and end on Thursday\, October 16th. There will be no school. School will resume on Monday\, October 20th. Enjoy your break and stay safe!
URL:http://arlingtonelem.org/event/fall-break-9/
END:VEVENT
BEGIN:VEVENT
DTSTART;VALUE=DATE:20251111
DTEND;VALUE=DATE:20251112
DTSTAMP:20260421T200321
CREATED:20250514T203655Z
LAST-MODIFIED:20250514T203655Z
UID:14908-1762819200-1762905599@arlingtonelem.org
SUMMARY:Veteran's Day
DESCRIPTION:Arlington Elementary School will be closed on Tuesday\, November 11th\, in observation of Veteran’s Day.
URL:http://arlingtonelem.org/event/veterans-day-5/
END:VEVENT
BEGIN:VEVENT
DTSTART;TZID=UTC:20251126T080000
DTEND;TZID=UTC:20251127T170000
DTSTAMP:20260421T200321
CREATED:20250514T203826Z
LAST-MODIFIED:20250514T203826Z
UID:14910-1764144000-1764262800@arlingtonelem.org
SUMMARY:Thanksgiving Break
DESCRIPTION:Arlington School will be closed on Wednesday\, November 26th and Thursday\, November 27th\, in observance of Thanksgiving. Have a wonderful\, safe holiday.
URL:http://arlingtonelem.org/event/thanksgiving-break/
END:VEVENT
BEGIN:VEVENT
DTSTART;TZID=UTC:20251210T173000
DTEND;TZID=UTC:20251210T193000
DTSTAMP:20260421T200321
CREATED:20251208T164432Z
LAST-MODIFIED:20251208T164513Z
UID:17024-1765387800-1765395000@arlingtonelem.org
SUMMARY:Father/Daughter Dance
DESCRIPTION:Winter Wonderland\, Father-daughter dance.  Join us for a special celebration\, Wednesday\, December 10th\, from 5:30pm until 7:30pm! Each father & Daughter will cost $5.00 and will include 1 image 5 X 7. For additional daughters\, it will be an extra $2.00.
URL:http://arlingtonelem.org/event/father-daughter-dance/
END:VEVENT
BEGIN:VEVENT
DTSTART;TZID=UTC:20251216T183000
DTEND;TZID=UTC:20251216T193000
DTSTAMP:20260421T200321
CREATED:20251208T164818Z
LAST-MODIFIED:20251208T164837Z
UID:17026-1765909800-1765913400@arlingtonelem.org
SUMMARY:Christmas Program
DESCRIPTION:Arlington School’s annual Christmas Program will be December 16th at 6:30 PM.
URL:http://arlingtonelem.org/event/christmas-program-4/
END:VEVENT
BEGIN:VEVENT
DTSTART;TZID=UTC:20251217T080000
DTEND;TZID=UTC:20251218T110000
DTSTAMP:20260421T200321
CREATED:20250514T204137Z
LAST-MODIFIED:20250514T204137Z
UID:14914-1765958400-1766055600@arlingtonelem.org
SUMMARY:Early Release (11 am)
DESCRIPTION:Arlington School will dismiss students at 11am on Wednesday\, December 17th and Thursday\, December 18th. No lunch will be served.
URL:http://arlingtonelem.org/event/early-release-11-am/
END:VEVENT
BEGIN:VEVENT
DTSTART;VALUE=DATE:20251218
DTEND;VALUE=DATE:20251219
DTSTAMP:20260421T200321
CREATED:20250514T203939Z
LAST-MODIFIED:20250514T203939Z
UID:14912-1766016000-1766102399@arlingtonelem.org
SUMMARY:Quarter 2 Report Cards
DESCRIPTION:Quarter 2 report cards will be sent home on Thursday\, December 18th.
URL:http://arlingtonelem.org/event/quarter-2-report-cards-5/
END:VEVENT
BEGIN:VEVENT
DTSTART;TZID=UTC:20251222T080000
DTEND;TZID=UTC:20260105T170000
DTSTAMP:20260421T200321
CREATED:20250514T204333Z
LAST-MODIFIED:20250514T204426Z
UID:14916-1766390400-1767632400@arlingtonelem.org
SUMMARY:Christmas Break
DESCRIPTION:Arlington School will be closed for Winter Break from Monday December 22nd\, 2025 and school will resume on Monday\, January 5th\, 2026. Enjoy your holiday.
URL:http://arlingtonelem.org/event/christmas-break/
END:VEVENT
BEGIN:VEVENT
DTSTART;VALUE=DATE:20260119
DTEND;VALUE=DATE:20260120
DTSTAMP:20260421T200321
CREATED:20250514T204549Z
LAST-MODIFIED:20250514T204549Z
UID:14919-1768780800-1768867199@arlingtonelem.org
SUMMARY:Martin Luther King Jr Day-No School
DESCRIPTION:Arlington School will be closed on Monday\, January 19th\, 2026\, in observance of Martin Luther King Jr Day.
URL:http://arlingtonelem.org/event/martin-luther-king-jr-day-no-school/
END:VEVENT
END:VCALENDAR