BEGIN:VCALENDAR
VERSION:2.0
PRODID:-//Arlington Elementary School - Home of the WildCats - ECPv6.15.13//NONSGML v1.0//EN
CALSCALE:GREGORIAN
METHOD:PUBLISH
X-WR-CALNAME:Arlington Elementary School - Home of the WildCats
X-ORIGINAL-URL:http://arlingtonelem.org
X-WR-CALDESC:Events for Arlington Elementary School - Home of the WildCats
REFRESH-INTERVAL;VALUE=DURATION:PT1H
X-Robots-Tag:noindex
X-PUBLISHED-TTL:PT1H
BEGIN:VTIMEZONE
TZID:UTC
BEGIN:STANDARD
TZOFFSETFROM:+0000
TZOFFSETTO:+0000
TZNAME:UTC
DTSTART:20220101T000000
END:STANDARD
END:VTIMEZONE
BEGIN:VEVENT
DTSTART;TZID=UTC:20231016T080000
DTEND;TZID=UTC:20231020T170000
DTSTAMP:20260421T180649
CREATED:20230619T162423Z
LAST-MODIFIED:20230619T162423Z
UID:13903-1697443200-1697821200@arlingtonelem.org
SUMMARY:FALL BREAK
DESCRIPTION:Arlington school will be closed for Fall Break. We will see you back here at school on October 23rd
URL:http://arlingtonelem.org/event/fall-break-7/
END:VEVENT
END:VCALENDAR