BEGIN:VCALENDAR
VERSION:2.0
PRODID:-//Arlington Elementary School - Home of the WildCats - ECPv6.15.13//NONSGML v1.0//EN
CALSCALE:GREGORIAN
METHOD:PUBLISH
X-WR-CALNAME:Arlington Elementary School - Home of the WildCats
X-ORIGINAL-URL:http://arlingtonelem.org
X-WR-CALDESC:Events for Arlington Elementary School - Home of the WildCats
REFRESH-INTERVAL;VALUE=DURATION:PT1H
X-Robots-Tag:noindex
X-PUBLISHED-TTL:PT1H
BEGIN:VTIMEZONE
TZID:UTC
BEGIN:STANDARD
TZOFFSETFROM:+0000
TZOFFSETTO:+0000
TZNAME:UTC
DTSTART:20220101T000000
END:STANDARD
END:VTIMEZONE
BEGIN:VEVENT
DTSTART;VALUE=DATE:20230803
DTEND;VALUE=DATE:20230804
DTSTAMP:20260421T212213
CREATED:20230619T161832Z
LAST-MODIFIED:20230619T161832Z
UID:13899-1691020800-1691107199@arlingtonelem.org
SUMMARY:FIRST DAY OF SCHOOL
DESCRIPTION:Today is our first day of school. WELCOME BACK! 😀
URL:http://arlingtonelem.org/event/first-day-of-school-9/
END:VEVENT
END:VCALENDAR