BEGIN:VCALENDAR
VERSION:2.0
PRODID:-//Arlington Elementary School - Home of the WildCats - ECPv6.15.13//NONSGML v1.0//EN
CALSCALE:GREGORIAN
METHOD:PUBLISH
X-ORIGINAL-URL:http://arlingtonelem.org
X-WR-CALDESC:Events for Arlington Elementary School - Home of the WildCats
REFRESH-INTERVAL;VALUE=DURATION:PT1H
X-Robots-Tag:noindex
X-PUBLISHED-TTL:PT1H
BEGIN:VTIMEZONE
TZID:UTC
BEGIN:STANDARD
TZOFFSETFROM:+0000
TZOFFSETTO:+0000
TZNAME:UTC
DTSTART:20220101T000000
END:STANDARD
END:VTIMEZONE
BEGIN:VEVENT
DTSTART;TZID=UTC:20230801T080000
DTEND;TZID=UTC:20230802T170000
DTSTAMP:20260421T212207
CREATED:20230619T161539Z
LAST-MODIFIED:20230619T161539Z
UID:13897-1690876800-1690995600@arlingtonelem.org
SUMMARY:IN SERVICE
DESCRIPTION:Teachers and staff will be meeting on August 1st and 2nd to begin setting up for the new year.
URL:http://arlingtonelem.org/event/in-service-2/
END:VEVENT
END:VCALENDAR